BEGIN:VCALENDAR
VERSION:2.0
PRODID:icalendar-ruby
CALSCALE:GREGORIAN
METHOD:PUBLISH
BEGIN:VTIMEZONE
TZID:Europe/Oslo
BEGIN:DAYLIGHT
DTSTART:20260329T030000
TZOFFSETFROM:+0100
TZOFFSETTO:+0200
RRULE:FREQ=YEARLY;BYDAY=-1SU;BYMONTH=3
TZNAME:CEST
END:DAYLIGHT
BEGIN:STANDARD
DTSTART:20261025T020000
TZOFFSETFROM:+0200
TZOFFSETTO:+0100
RRULE:FREQ=YEARLY;BYDAY=-1SU;BYMONTH=10
TZNAME:CET
END:STANDARD
END:VTIMEZONE
BEGIN:VEVENT
DTSTAMP:20260421T164801Z
UID:1078062
DTSTART;TZID=Europe/Oslo:20260719T120000
DTEND;TZID=Europe/Oslo:20260719T160000
LOCATION:Landeparken\, Sarpsbrog
SEQUENCE:1773306319
SUMMARY:Sarpsborg vikingfestival 2026 - En del av Olavsdagene - Søndag 19.
  juli
END:VEVENT
END:VCALENDAR
